BEGIN:VCALENDAR
VERSION:2.0
PRODID:-//Tukios.com/
BEGIN:VEVENT
UID:7b4e5805-f6e5-4939-b481-c548e7e38d61@www.ccpdxor.com
DTSTAMP:20260423T005733Z
DTSTART:20260509T210000Z
DTEND:20260509T220000Z
SUMMARY:Inurnment
DESCRIPTION:
URL:https://www.ccpdxor.com/obituaries/mary-medak
LOCATION: 17201 Stafford Rd  Lake Oswego OR 97034
GEO:45.4012677;-122.6836416
END:VEVENT
END:VCALENDAR