BEGIN:VCALENDAR
VERSION:2.0
PRODID:-//Tukios.com/
BEGIN:VEVENT
UID:986878a8-9e0c-46bd-9e73-1a97b1012cb0@www.ccpdxor.com
DTSTAMP:20260423T005517Z
DTSTART:20260508T180000Z
DTEND:20260508T190000Z
SUMMARY:Mass
DESCRIPTION:Services for Our Lady of the Lake Catholic Church will be 
	held at Christ Church during their remodel.
URL:https://www.ccpdxor.com/obituaries/mary-medak
LOCATION: 1060 Chandler Rd  Lake Oswego OR 97034
GEO:45.4198562;-122.6764344
END:VEVENT
END:VCALENDAR