BEGIN:VCALENDAR
VERSION:2.0
PRODID:-//Tukios.com/
BEGIN:VEVENT
UID:3dd3d48a-5639-4fdd-8b7f-7d8c7a03f44d@www.ccpdxor.com
DTSTAMP:20260422T231656Z
DTSTART:20260424T213000Z
DTEND:20260424T220000Z
SUMMARY:Committal Service
DESCRIPTION:
URL:https://www.ccpdxor.com/obituaries/mary-mcconnel
LOCATION: 333 SW Skyline Blvd  Portland OR 97221
GEO:45.5191699;-122.7349895
END:VEVENT
END:VCALENDAR