BEGIN:VCALENDAR
VERSION:2.0
PRODID:-//Tukios.com/
BEGIN:VEVENT
UID:aed0bf59-9e8a-4ae1-a944-4597115b449f@www.ccpdxor.com
DTSTAMP:20260423T224520Z
DTSTART:20260501T130000Z
DTEND:20260501T134500Z
SUMMARY:Visitation
DESCRIPTION:
URL:https://www.ccpdxor.com/obituaries/maria-nguyen
LOCATION: 11731 SE Stevens Rd  Happy Valley OR 97086
GEO:45.4375135;-122.5657741
END:VEVENT
END:VCALENDAR