BEGIN:VCALENDAR
VERSION:2.0
PRODID:-//Tukios.com/
BEGIN:VEVENT
UID:1b4b81ef-826d-43a9-bdb4-22b1e057be43@www.ccpdxor.com
DTSTAMP:20260423T224756Z
DTSTART:20260501T153000Z
DTEND:20260501T163000Z
SUMMARY:Burial
DESCRIPTION:
URL:https://www.ccpdxor.com/obituaries/maria-nguyen
LOCATION: 11666 SE Stevens Rd.  Happy Valley OR 97086
GEO:45.4388853;-122.5617344
END:VEVENT
END:VCALENDAR