BEGIN:VCALENDAR
VERSION:2.0
PRODID:-//Tukios.com/
BEGIN:VEVENT
UID:ebf36cff-54fb-405a-9c62-ca68539ae407@www.ccpdxor.com
DTSTAMP:20260423T224552Z
DTSTART:20260501T140000Z
DTEND:20260501T150000Z
SUMMARY:Mass
DESCRIPTION:
URL:https://www.ccpdxor.com/obituaries/maria-nguyen
LOCATION: 11731 SE Stevens Rd  Happy Valley OR 97086
GEO:45.4375135;-122.5657741
END:VEVENT
END:VCALENDAR