BEGIN:VCALENDAR
VERSION:2.0
PRODID:-//Tukios.com/
BEGIN:VEVENT
UID:81852853-8c85-4acc-81b7-9a398ec1f35f@www.ccpdxor.com
DTSTAMP:20260423T223927Z
DTSTART:20260430T230000Z
DTEND:20260501T040000Z
SUMMARY:Visitation
DESCRIPTION:
URL:https://www.ccpdxor.com/obituaries/maria-nguyen
LOCATION: 11731 SE Stevens Rd  Happy Valley OR 97086
GEO:45.4375135;-122.5657741
END:VEVENT
END:VCALENDAR